BEGIN:VCALENDAR
VERSION:2.0
PRODID:-//ChamberMaster//Event Calendar 2.0//EN
METHOD:PUBLISH
X-PUBLISHED-TTL:P3D
REFRESH-INTERVAL:P3D
CALSCALE:GREGORIAN
BEGIN:VEVENT
DTSTART:20260512T123000Z
DTEND:20260512T140000Z
X-MICROSOFT-CDO-ALLDAYEVENT:FALSE
SUMMARY:Legislative Update
DESCRIPTION:Join Senate President Robert Stivers\, Representative Tom Odell Smith and Representative Nick Wilson as they provide an overview of the most recent legislative session.\n\n\n\nBreakfast catered by LaDonna's
X-ALT-DESC;FMTTYPE=text/html:<span style="font-size:24px\;">Join Senate President Robert Stivers\, Representative Tom Odell Smith and Representative Nick Wilson as they provide an overview of the most recent legislative session.</span><br />\n<br />\n<span style="font-size:14px\;">Breakfast catered by LaDonna&#39\;s</span>
LOCATION:The Corbin Center 222 Corbin Center Drive\, Corbin KY 40701
UID:e.2122.476
SEQUENCE:3
DTSTAMP:20260420T170343Z
URL:https://business.southernkychamber.com/events/details/legislative-update-476
END:VEVENT

END:VCALENDAR
