BEGIN:VCALENDAR
VERSION:2.0
PRODID:-//ChamberMaster//Event Calendar 2.0//EN
METHOD:PUBLISH
X-PUBLISHED-TTL:P3D
REFRESH-INTERVAL:P3D
CALSCALE:GREGORIAN
BEGIN:VEVENT
DTSTART:20251209T164500Z
DTEND:20251209T180000Z
X-MICROSOFT-CDO-ALLDAYEVENT:FALSE
SUMMARY:December 2025 Christmas Membership Luncheon
DESCRIPTION:Christmas Luncheon & Games!\n\nSponsored by The Job Shop\n\nCatering provided by LaDonna's
X-ALT-DESC;FMTTYPE=text/html:Christmas Luncheon &amp\; Games!<br>\nSponsored by The Job Shop<br>\nCatering provided by LaDonna's
LOCATION:The Corbin Center 222 Corbin Center Drive Corbin KY 40701
UID:e.2122.448
SEQUENCE:3
DTSTAMP:20260425T205544Z
URL:https://business.southernkychamber.com/events/details/december-2025-christmas-membership-luncheon-448
END:VEVENT

END:VCALENDAR
